Workbook

Sheet 预算汇总
B1: 某某小区物业维护基金的资金年度收支预算案
F2: 占比
B3: 收入:（物业维护基金总收入）
C4: 物业费收入 | D4: =SUM(收入明细!M8) -> 3405441.4 | F4: =D4/$E$7 -> 0.72694292
C5: 地下车位管理费收入 | D5: =SUM(收入明细!M12) -> 613800 | F5: =D5/$E$7 -> 0.13102488
C6: 其他管理费收入 | D6: =SUM(收入明细!M16) -> 665364.95 | F6: =D6/$E$7 -> 0.1420322
B7: 收入合计： | E7: =SUM(D4+D5+D6) -> 4684606.4 | F7: =SUM(F4:F6) -> 1
B8: 物业管理成本及物业费单价核算
B9: 支出： | F9: 占比
B10: 一 | C10: （一）管理服务人员的工资、社会保险和按规定提取的福利费等
C11: 薪金、奖金、加班费等薪酬类 | D11: =SUM('1.工资福利'!I15) -> 1060103.3
C12: 社会保险和福利费 | D12: ='1.工资福利'!T15 -> 344757.92
C13: 小计 | E13: =SUM(D11:D12) -> 1404861.2 | F13: =E13/$E$57 -> 0.3034364
B14: 二 | C14: （二）物业共用部位、共用设施设备的日常运行、维护费用
C15: ='2.设施设备运行维护'!A3 -> 1.公共电费 | D15: ='2.设施设备运行维护'!O9 -> 541200
C16: ='2.设施设备运行维护'!A10 -> 2.公共水费 | D16: ='2.设施设备运行维护'!O14 -> 103700
C17: ='2.设施设备运行维护'!A15 -> 3.电梯运行费（合同） | D17: ='2.设施设备运行维护'!O18 -> 144000
C18: ='2.设施设备运行维护'!A19 -> 4.消防系统维护费 | D18: ='2.设施设备运行维护'!O25 -> 48240
C19: ='2.设施设备运行维护'!A26 -> 5.设施设备日常维护材料费 | D19: =SUM('2.设施设备运行维护'!O34) -> 36000
C20: ='2.设施设备运行维护'!A36 -> 6.给、排水系统维护 | D20: ='2.设施设备运行维护'!O39 -> 48000
C21: ='2.设施设备运行维护'!A40 -> 7.强弱电、中控系统维保费 | D21: ='2.设施设备运行维护'!O42 -> 18000
C22: 小计 | E22: =SUM(D15:D21) -> 939140 | F22: =E22/$E$57 -> 0.20284513
B23: 三 | C23: （三）物业管理区域清洁卫生费用
C24: ='3.清洁卫生'!A3 -> 1.保洁服务费 | D24: =SUM('3.清洁卫生'!O5) -> 504000
C25: ='3.清洁卫生'!A6 -> 2.化粪池清掏费 | D25: =SUM('3.清洁卫生'!O8) -> 12000
C26: ='3.清洁卫生'!A9 -> 3.垃圾清运费 | D26: =SUM('3.清洁卫生'!O11) -> 30000
C27: 小计 | E27: =SUM(D24+D25+D26) -> 546000 | F27: =E27/$E$57 -> 0.1179307
B28: 四 | C28: （四）物业管理区域绿化养护费用
C29: ='4.绿化养护'!A3 -> 1.绿地绿化费 | D29: =SUM('4.绿化养护'!O7) -> 124100
C30: ='4.绿化养护'!A8 -> 2.日常、节日花卉及其他 | D30: =SUM('4.绿化养护'!O11) -> 10000
C31: 小计 | E31: =SUM(D29:D30) -> 134100 | F31: =E31/$E$57 -> 0.028964299
B32: 五 | C32: （五）物业管理区域秩序维护费用
C33: ='5.秩序维护'!A3 -> 1.保安合同 | D33: ='5.秩序维护'!O6 -> 672000
C34: ='5.秩序维护'!A7 -> 2.车场管理费 | D34: =SUM('5.秩序维护'!O12) -> 16000
C35: 小计 | E35: =SUM(D33:D34) -> 688000 | F35: =E35/$E$57 -> 0.14860132
B36: 六 | C36: （六）行政办公费用
C37: ='6.办公费用'!A3 -> 1.办公用品 | D37: =SUM('6.办公费用'!O9) -> 2952
C38: ='6.办公费用'!A10 -> 2.办公耗材 | D38: =SUM('6.办公费用'!O18) -> 9630
C39: ='6.办公费用'!A19 -> 3.办公水、电费、物业管理软件 | D39: =SUM('6.办公费用'!O24) -> 17200
C40: ='6.办公费用'!A25 -> 4.报刊杂志费 | D40: =SUM('6.办公费用'!O28) -> 10800
...

Sheet 收入明细
A1: 某某小区I期-2018年度-物业维护基金收入预算 （1,2,3,5,6,7,8,9,10号楼）
A2: 科目、细目 | M2: 合计
A3: 1.物业费收入 | E3: 面积 | F3: 单价 | G3: 年收费月份 | H3: 系数
B4: 住宅 | E4: ='10.规划各类建筑物面积'!C24 -> 187237.37 | F4: 1.35 | G4: 12 | H4: 1 | M4: =E4*F4*G4*H4 -> 3033245.4
B5: 地下室 | E5: ='10.规划各类建筑物面积'!C34 -> 11454.26 | F5: 0.6 | G5: 12 | H5: 1 | M5: =E5*F5*G5*H5 -> 82470.672
B6: 商业 | E6: ='10.规划各类建筑物面积'!C25 -> 17884.28 | F6: 1.35 | G6: 12 | H6: 1 | M6: =E6*F6*G6*H6 -> 289725.34
B7: 幼儿园 | E7: 2399.26 | F7: 0 | G7: 0 | H7: 0 | M7: =E7*F7*G7*H7 -> 0
B8: 小计 | M8: =SUM(M4:M7) -> 3405441.4
A9: 2.地下车位管理费
B10: 停车场、库管理费收入 | E10: 数量 | F10: 单价 | G10: 年收费月份 | M10: 年度小计
C11: 地下车位管理费 | E11: ='10.规划各类建筑物面积'!C44 -> 1023 | F11: 50 | G11: 12 | H11: 1 | M11: =E11*F11*G11*H11 -> 613800
B12: 小计 | M12: =SUM(M11:M11) -> 613800
A13: 3.其他管理费收入
B14: 装修管理费 | E14: =E4+E6 -> 205121.65 | F14: 6 | G14: 1 | H14: 0.5 | M14: =E14*F14*G14*H14 -> 615364.95 | N14: 装修管理费，因为前面是总的面积数据。交房当年，假定有一半的人装修，所以是总面积的一半的一半，大概是0.5
B15: 广告、门禁卡、各种证件办理 | M15: 50000
B16: 小计 | M16: =SUM(M14:M15) -> 665364.95
A18: 总计 | M18: =(M8+M12+M16) -> 4684606.4
C21: 住宅 | M21: =SUM(M4) -> 3033245.4
C22: 地下室 | M22: =SUM(M5) -> 82470.672
C23: 商业 | M23: =SUM(M6) -> 289725.34
C24: 幼儿园 | M24: =SUM(M7) -> 0
C25: 地下车位管理费 | M25: =SUM(M12) -> 613800
C26: 其他管理费收入（装修管理费等） | M26: =SUM(M16) -> 665364.95

Sheet 1.工资福利
A1: 某某小区-I期物业管理人工成本预算 （2018年）
D2: 1、薪金、奖金、加班费等薪酬类 | J2: 2、社会保险及福利费 | U2: 总计
A3: 岗 位 | C3: 人数 | D3: 月薪标准 | E3: 年薪金总额 | F3: 奖金 | G3: 岗位津贴 | H3: 节假日值班 | I3: 薪酬类收入 小计 | J3: 人月均工资 | K3: 社保缴费最低基数 | L3: 年养老保险 20% | M3: 年失业保险 2% | N3: 年工伤保险 1% | O3: 年生育保险 1% | P3: 年医疗保险 6% | Q3: 年住房 公积金8% | R3: 教育经费 1% | S3: 年福利 10% | T3: 年保险、福利 费合计
A4: 经理级 | B4: 项目经理 | C4: 1 | D4: 25000 | E4: =C4*D4*12 -> 300000 | I4: =SUM(E4:H4) -> 300000 | L4: 0 | M4: 0 | N4: 0 | O4: 0 | P4: 0 | Q4: 0 | R4: 0 | S4: =I4*10% -> 30000 | T4: =SUM(L4:S4) -> 30000 | U4: =I4+T4 -> 330000
B5: 经理助理 | C5: 1 | D5: 7000 | E5: =C5*D5*12 -> 84000 | F5: =D5*2*C5 -> 14000 | G5: =600*12 -> 7200 | H5: =11*D5/30*2*C5 -> 5133.3333 | I5: =SUM(E5:H5) -> 110333.33 | J5: =I5/12/C5 -> 9194.4444 | K5: =$E$17 -> 2180 | L5: =IF(J5>K5,ROUND(J5,0)*20%*12*C5,K5*20%*12*C5) -> 22065.6 | M5: =IF(J5>K5,ROUND(J5,0)*2%*12*C5,K5*2%*12*C5) -> 2206.56 | N5: =IF(J5>K5,ROUND(J5,0)*1%*12*C5,J5*1%*12*C5) -> 1103.28 | O5: =IF(J5>K5,ROUND(J5,0)*1%*12*C5,J5*1%*12*C5) -> 1103.28 | P5: =IF(J5>K5,ROUND(J5,0)*6%*12*C5,J5*6%*12*C5) -> 6619.68 | Q5: 0 | R5: =I5*1% -> 1103.3333 | S5: =I5*10% -> 11033.333 | T5: =SUM(L5:S5) -> 45235.067 | U5: =I5+T5 -> 155568.4
A6: 客服部 | B6: 客服部主管 | C6: 1 | D6: 4500 | E6: =C6*D6*12 -> 54000 | F6: =D6*2*C6 -> 9000 | G6: 0 | H6: =11*D6/30*2*C6 -> 3300 | I6: =SUM(E6:H6) -> 66300 | J6: =I6/12/C6 -> 5525 | K6: =$E$17 -> 2180 | L6: =IF(J6>K6,ROUND(J6,0)*20%*12*C6,K6*20%*12*C6) -> 13260 | M6: =IF(J6>K6,ROUND(J6,0)*2%*12*C6,K6*2%*12*C6) -> 1326 | N6: =IF(J6>K6,ROUND(J6,0)*1%*12*C6,J6*1%*12*C6) -> 663 | O6: =IF(J6>K6,ROUND(J6,0)*1%*12*C6,J6*1%*12*C6) -> 663 | P6: =IF(J6>K6,ROUND(J6,0)*6%*12*C6,J6*6%*12*C6) -> 3978 | Q6: 0 | R6: =I6*1% -> 663 | S6: =I6*10% -> 6630 | T6: =SUM(L6:S6) -> 27183 | U6: =I6+T6 -> 93483
B7: 客服管家 | C7: 4 | D7: 2500 | E7: =C7*D7*12 -> 120000 | F7: =D7*2*C7 -> 20000 | G7: 0 | H7: =11*D7/30*2*C7 -> 7333.3333 | I7: =SUM(E7:H7) -> 147333.33 | J7: =I7/12/C7 -> 3069.4444 | K7: =$E$17 -> 2180 | L7: =IF(J7>K7,ROUND(J7,0)*20%*12*C7,K7*20%*12*C7) -> 29462.4 | M7: =IF(J7>K7,ROUND(J7,0)*2%*12*C7,K7*2%*12*C7) -> 2946.24 | N7: =IF(J7>K7,ROUND(J7,0)*1%*12*C7,J7*1%*12*C7) -> 1473.12 | O7: =IF(J7>K7,ROUND(J7,0)*1%*12*C7,J7*1%*12*C7) -> 1473.12 | P7: =IF(J7>K7,ROUND(J7,0)*6%*12*C7,J7*6%*12*C7) -> 8838.72 | Q7: 0 | R7: =I7*1.5% -> 2210 | S7: =I7*10% -> 14733.333 | T7: =SUM(L7:S7) -> 61136.933 | U7: =I7+T7 -> 208470.27
B8: 前台收费、接待报修员 | C8: 2 | D8: 2000 | E8: =C8*D8*12 -> 48000 | F8: =D8*1.5*C8 -> 6000 | G8: 0 | H8: =11*D8/30*2*C8 -> 2933.3333 | I8: =SUM(E8:H8) -> 56933.333 | J8: =I8/12/C8 -> 2372.2222 | K8: =$E$17 -> 2180 | L8: =IF(J8>K8,ROUND(J8,0)*20%*12*C8,K8*20%*12*C8) -> 11385.6 | M8: =IF(J8>K8,ROUND(J8,0)*2%*12*C8,K8*2%*12*C8) -> 1138.56 | N8: =IF(J8>K8,ROUND(J8,0)*1%*12*C8,J8*1%*12*C8) -> 569.28 | O8: =IF(J8>K8,ROUND(J8,0)*1%*12*C8,J8*1%*12*C8) -> 569.28 | P8: =IF(J8>K8,ROUND(J8,0)*6%*12*C8,J8*6%*12*C8) -> 3415.68 | Q8: 0 | R8: =I8*1.5% -> 854 | S8: =I8*10% -> 5693.3333 | T8: =SUM(L8:S8) -> 23625.733 | U8: =I8+T8 -> 80559.067
A9: 行政品质 | B9: 行政主办 | C9: 1 | D9: 3000 | E9: =C9*D9*12 -> 36000 | F9: =D9*2*C9 -> 6000 | G9: =C9*100*12 -> 1200 | H9: =11*D9/30*2*C9 -> 2200 | I9: =SUM(E9:H9) -> 45400 | J9: =I9/12/C9 -> 3783.3333 | K9: =$E$17 -> 2180 | L9: =IF(J9>K9,ROUND(J9,0)*20%*12*C9,K9*20%*12*C9) -> 9079.2 | M9: =IF(J9>K9,ROUND(J9,0)*2%*12*C9,K9*2%*12*C9) -> 907.92 | N9: =IF(J9>K9,ROUND(J9,0)*1%*12*C9,J9*1%*12*C9) -> 453.96 | O9: =IF(J9>K9,ROUND(J9,0)*1%*12*C9,J9*1%*12*C9) -> 453.96 | P9: =IF(J9>K9,ROUND(J9,0)*6%*12*C9,J9*6%*12*C9) -> 2723.76 | Q9: 0 | R9: =I9*1.5% -> 681 | S9: =I9*10% -> 4540 | T9: =SUM(L9:S9) -> 18839.8 | U9: =I9+T9 -> 64239.8
B10: 档案管理兼库管 | C10: 1 | D10: 1800 | E10: =C10*D10*12 -> 21600 | F10: =D10*1.5*C10 -> 2700 | G10: 0 | H10: =29*30*C10 -> 870 | I10: =SUM(E10:H10) -> 25170 | J10: =I10/12/C10 -> 2097.5 | K10: =$E$17 -> 2180 | L10: =IF(J10>K10,ROUND(J10,0)*20%*12*C10,K10*20%*12*C10) -> 5232 | M10: =IF(J10>K10,ROUND(J10,0)*2%*12*C10,K10*2%*12*C10) -> 523.2 | N10: =IF(J10>K10,ROUND(J10,0)*1%*12*C10,J10*1%*12*C10) -> 251.7 | O10: =IF(J10>K10,ROUND(J10,0)*1%*12*C10,J10*1%*12*C10) -> 251.7 | P10: =IF(J10>K10,ROUND(J10,0)*6%*12*C10,J10*6%*12*C10) -> 1510.2 | Q10: 0 | R10: =I10*1.5% -> 377.55 | S10: =I10*10% -> 2517 | T10: =SUM(L10:S10) -> 10663.35 | U10: =I10+T10 -> 35833.35
A11: 财务部 | B11: 出纳 | C11: 1 | D11: 2000 | E11: =C11*D11*12 -> 24000 | F11: =D11*1.5*C11 -> 3000 | G11: 0 | H11: 0 | I11: =SUM(E11:H11) -> 27000 | J11: =I11/12/C11 -> 2250 | K11: =$E$17 -> 2180 | L11: =IF(J11>K11,ROUND(J11,0)*20%*12*C11,K11*20%*12*C11) -> 5400 | M11: =IF(J11>K11,ROUND(J11,0)*2%*12*C11,K11*2%*12*C11) -> 540 | N11: =IF(J11>K11,ROUND(J11,0)*1%*12*C11,J11*1%*12*C11) -> 270 | O11: =IF(J11>K11,ROUND(J11,0)*1%*12*C11,J11*1%*12*C11) -> 270 | P11: =IF(J11>K11,ROUND(J11,0)*6%*12*C11,J11*6%*12*C11) -> 1620 | Q11: 0 | R11: =I11*1.5% -> 405 | S11: =I11*10% -> 2700 | T11: =SUM(L11:S11) -> 11205 | U11: =I11+T11 -> 38205
A12: 工程部 | B12: 工程部机电主管（设备主管） | C12: 1 | D12: 5000 | E12: =C12*D12*12 -> 60000 | F12: =D12*2*C12 -> 10000 | G12: 0 | H12: =11*D12/30*2*C12 -> 3666.6667 | I12: =SUM(E12:H12) -> 73666.667 | J12: =I12/12/C12 -> 6138.8889 | K12: =$E$17 -> 2180 | L12: =IF(J12>K12,ROUND(J12,0)*20%*12*C12,K12*20%*12*C12) -> 14733.6 | M12: =IF(J12>K12,ROUND(J12,0)*2%*12*C12,K12*2%*12*C12) -> 1473.36 | N12: =IF(J12>K12,ROUND(J12,0)*1%*12*C12,J12*1%*12*C12) -> 736.68 | O12: =IF(J12>K12,ROUND(J12,0)*1%*12*C12,J12*1%*12*C12) -> 736.68 | P12: =IF(J12>K12,ROUND(J12,0)*6%*12*C12,J12*6%*12*C12) -> 4420.08 | Q12: 0 | R12: =I12*1.5% -> 1105 | S12: =I12*10% -> 7366.6667 | T12: =SUM(L12:S12) -> 30572.067 | U12: =I12+T12 -> 104238.73
B13: 设施设备管理工程师（消防、电梯、弱电） | C13: 1 | D13: 3000 | E13: =C13*D13*12 -> 36000 | F13: =D13*2*C13 -> 6000 | G13: 0 | H13: =11*D13/30*2*C13 -> 2200 | I13: =SUM(E13:H13) -> 44200 | J13: =I13/12/C13 -> 3683.3333 | K13: =$E$17 -> 2180 | L13: =IF(J13>K13,ROUND(J13,0)*20%*12*C13,K13*20%*12*C13) -> 8839.2 | M13: =IF(J13>K13,ROUND(J13,0)*2%*12*C13,K13*2%*12*C13) -> 883.92 | N13: =IF(J13>K13,ROUND(J13,0)*1%*12*C13,J13*1%*12*C13) -> 441.96 | O13: =IF(J13>K13,ROUND(J13,0)*1%*12*C13,J13*1%*12*C13) -> 441.96 | P13: =IF(J13>K13,ROUND(J13,0)*6%*12*C13,J13*6%*12*C13) -> 2651.76 | Q13: 0 | R13: =I13*1.5% -> 663 | S13: =I13*10% -> 4420 | T13: =SUM(L13:S13) -> 18341.8 | U13: =I13+T13 -> 62541.8
B14: 给排水、土建、安装维修工 | C14: 5 | D14: 2200 | E14: =C14*D14*12 -> 132000 | F14: =D14*1.5*C14 -> 16500 | G14: =30*20*12 -> 7200 | H14: =11*D14/30*2*C14 -> 8066.6667 | I14: =SUM(E14:H14) -> 163766.67 | J14: =I14/12/C14 -> 2729.4444 | K14: =$E$17 -> 2180 | L14: =IF(J14>K14,ROUND(J14,0)*20%*12*C14,K14*20%*12*C14) -> 32748 | M14: =IF(J14>K14,ROUND(J14,0)*2%*12*C14,K14*2%*12*C14) -> 3274.8 | N14: =IF(J14>K14,ROUND(J14,0)*1%*12*C14,J14*1%*12*C14) -> 1637.4 | O14: =IF(J14>K14,ROUND(J14,0)*1%*12*C14,J14*1%*12*C14) -> 1637.4 | P14: =IF(J14>K14,ROUND(J14,0)*6%*12*C14,J14*6%*12*C14) -> 9824.4 | Q14: 0 | R14: =I14*1.5% -> 2456.5 | S14: =I14*10% -> 16376.667 | T14: =SUM(L14:S14) -> 67955.167 | U14: =I14+T14 -> 231721.83
A15: 合 计 | C15: =SUM(C4:C14) -> 19 | D15: =SUM(D4:D14) -> 58000 | E15: =SUM(E4:E14) -> 915600 | F15: =SUM(F4:F14) -> 93200 | G15: =SUM(G4:G14) -> 15600 | H15: =SUM(H4:H14) -> 35703.333 | I15: =SUM(I4:I14) -> 1060103.3 | L15: =SUM(L4:L14) -> 152205.6 | M15: =SUM(M4:M14) -> 15220.56 | N15: =SUM(N4:N14) -> 7600.38 | O15: =SUM(O4:O14) -> 7600.38 | P15: =SUM(P4:P14) -> 45602.28 | Q15: =SUM(Q4:Q14) -> 0 | R15: =SUM(R4:R14) -> 10518.383 | S15: =SUM(S4:S14) -> 106010.33 | ... U15: =SUM(U4:U14) -> 1404861.2
B17: 当地社保缴费最低基数（一般为社平工资的60%） | E17: 2180

Sheet 2.设施设备运行维护
A1: 某某小区-I期 物业管理设施、设备运行维护费用预算 （2018年度）
A2: 科目、细目
A3: 1.公共电费 | C3: 1月 | D3: 2月 | E3: 3月 | F3: 4月 | G3: 5月 | H3: 6月 | I3: 7月 | J3: 8月 | K3: 9月 | L3: 10月 | M3: 11月 | N3: 12月 | O3: 年总计
A4: 此五项公共电费属代收代缴项目，由业主公摊（最终以实际计量表为准）） | B4: 电梯系统电费 | C4: 30000 | D4: 30000 | E4: 30000 | F4: 30000 | G4: 30000 | H4: 30000 | I4: 30000 | J4: 30000 | K4: 30000 | L4: 30000 | M4: 30000 | N4: 30000 | O4: =SUM(C4:N4) -> 360000
B5: 公共照明系统 | C5: 6000 | D5: 6000 | E5: 6000 | F5: 6000 | G5: 6000 | H5: 6000 | I5: 6000 | J5: 6000 | K5: 6000 | L5: 6000 | M5: 6000 | N5: 6000 | O5: =SUM(C5:N5) -> 72000
B6: 消防系统 | C6: 1000 | D6: 1000 | E6: 1000 | F6: 1000 | G6: 1000 | H6: 1000 | I6: 1000 | J6: 1000 | K6: 1000 | L6: 1000 | M6: 1000 | N6: 1000 | O6: =SUM(C6:N6) -> 12000
B7: 给排水、二次供水系统 | C7: 5000 | D7: 5000 | E7: 5000 | F7: 5000 | G7: 5000 | H7: 5000 | I7: 5000 | J7: 5000 | K7: 5000 | L7: 5000 | M7: 5000 | N7: 5000 | O7: =SUM(C7:N7) -> 60000
B8: 景观水系系统 | C8: 0 | D8: 1200 | E8: 3600 | F8: 4600 | G8: 4600 | H8: 4600 | I8: 4600 | J8: 4600 | K8: 4600 | L8: 3600 | M8: 1200 | N8: 0 | O8: =SUM(C8:N8) -> 37200
B9: 小计 | C9: =SUM(C4:C8) -> 42000 | D9: =SUM(D4:D8) -> 43200 | E9: =SUM(E4:E8) -> 45600 | F9: =SUM(F4:F8) -> 46600 | G9: =SUM(G4:G8) -> 46600 | H9: =SUM(H4:H8) -> 46600 | I9: =SUM(I4:I8) -> 46600 | J9: =SUM(J4:J8) -> 46600 | ... O9: =SUM(O4:O8) -> 541200
A10: 2.公共水费 | C10: 1月 | D10: 2月 | E10: 3月 | F10: 4月 | G10: 5月 | H10: 6月 | I10: 7月 | J10: 8月 | K10: 9月 | L10: 10月 | M10: 11月 | N10: 12月 | O10: 年总计
A11: 此三项公共水费属代收代缴项目，由业主公摊（最终以实际计量表为准）） | B11: 绿化水费 | C11: - | D11: - | E11: 3000 | F11: 3000 | G11: 4000 | H11: 5000 | I11: 5500 | J11: 5500 | K11: 5500 | L11: 5500 | M11: 5500 | N11: 0 | O11: =SUM(C11:N11) -> 42500
B12: 清洁用水 | C12: 800 | D12: 800 | E12: 800 | F12: 800 | G12: 800 | H12: 800 | I12: 800 | J12: 800 | K12: 800 | L12: 800 | M12: 800 | N12: 800 | O12: =SUM(C12:N12) -> 9600
B13: 景观用水 | C13: 0 | D13: 0 | E13: 4000 | F13: 4000 | G13: 6600 | H13: 6600 | I13: 6600 | J13: 6600 | K13: 6600 | L13: 6600 | M13: 4000 | N13: 0 | O13: =SUM(C13:N13) -> 51600
B14: 小计 | C14: =SUM(C11:C13) -> 800 | D14: =SUM(D11:D13) -> 800 | E14: =SUM(E11:E13) -> 7800 | F14: =SUM(F11:F13) -> 7800 | G14: =SUM(G11:G13) -> 11400 | H14: =SUM(H11:H13) -> 12400 | I14: =SUM(I11:I13) -> 12900 | J14: =SUM(J11:J13) -> 12900 | ... O14: =SUM(O11:O13) -> 103700
A15: 3.电梯运行费（合同） | D15: 数量 | E15: 单价/年 | O15: 年总计
B16: 电梯保养费 | D16: 40 | E16: 3000 | O16: =D16*E16 -> 120000
B17: 电梯年检费 | D17: 40 | E17: 600 | O17: =D17*E17 -> 24000
B18: 小计 | O18: =SUM(O16:O17) -> 144000
A19: 4.消防系统维护费 | D19: 数量 | E19: 单价/月 | O19: 年总计
B20: 消防设备维护费 | E20: 3000 | O20: =SUM(E20*12) -> 36000
B21: 楼内探头清洗 | D21: 40 | E21: 20 | O21: =SUM(D21*E21) -> 800
B22: 配件更换 | D22: 20 | E22: 150 | O22: =SUM(D22*E22) -> 3000
B23: 灭火器年检 | D23: 58 | E23: 40 | O23: =SUM(D23*E23) -> 2320
B24: 小计 | O24: =SUM(O21:O23) -> 6120
O25: =SUM(O20:O24) -> 48240
A26: 5.设施设备日常维护材料费 | D26: 每月预算 | O26: 年总计
B27: 灯泡、灯管、节能灯、开关等
B28: 公共区控制箱：包括指示灯、按钮、接触器、空开等
B29: 安全出口灯、公共区域照明灯具、霓虹灯、泛光灯等
B30: 高压配电室、低压配电室
B31: 污水泵控制箱/包括污水泵维护
B32: 仪器仪表年检费、电工工具年检费
B33: 楼宇自控及门禁（主机、线路、电磁阀、执行器）
D34: 3000 | E34: 12 | O34: =SUM(E34*D34) -> 36000
B35: 小计 | O35: =SUM(O27:O34) -> 36000
A36: 6.给、排水系统维护 | C36: 年维护频度 | D36: 维护预算 | F36: 合计
B37: 排水系统维修零配件、材料费用 | C37: 12 | D37: 2000 | O37: =C37*D37 -> 24000
B38: 给水系统维修零配件、材料费用 | C38: 12 | D38: 2000 | O38: =C38*D38 -> 24000
B39: 小计 | O39: =SUM(O37:O38) -> 48000
A40: 7.强弱电、中控系统维保费
...

Sheet 3.清洁卫生
A1: 某某小区-I期 物业管理域清洁卫生费用预算 （2018年度）
A2: 科目、细目
A3: 1.保洁服务费 | E3: 月单价 | F3: 年金额
B4: 保洁外包（21人） | E4: 42000 | F4: 12 | O4: =F4*E4 -> 504000
B5: 小计 | O5: =SUM(O4) -> 504000
A6: 2.化粪池清掏费 | D6: 次数 | E6: 单价
B7: 化粪池清掏费 | D7: 2 | E7: 6000 | O7: =E7*D7 -> 12000
B8: 小计 | O8: =SUM(O6:O7) -> 12000
A9: 3.垃圾清运费 | D9: 数量 | E9: 单价/月 | F9: 年金额
B10: 生活垃圾清运费 | D10: 0 | E10: 2500 | F10: =E10*12 -> 30000 | O10: =F10 -> 30000
B11: 小计 | O11: =SUM(O9:O10) -> 30000
A13: 总计 | O13: =SUM(O11+O8+O5) -> 546000

Sheet 4.绿化养护
A1: 某某小区-I期 物业管理区域绿化养护费用预算 （2018年度）
A2: 科目、细目
A3: 1.绿地绿化费 | D3: 数量 | E3: 每月 | F3: 月份 | G3: 合计
B4: 员工成本 | D4: 4 | E4: 2500 | F4: 12 | G4: =SUM(F4*E4*D4) -> 120000
B5: 病虫害药品 | D5: 1 | E5: 2300 | F5: 12 | G5: =SUM(D5*E5) -> 2300
B6: 工具、油料、肥料 | D6: 1 | E6: 1800 | F6: 12 | G6: =SUM(E6*D6) -> 1800
B7: 小计 | O7: =SUM(G4+G5+G6) -> 124100
A8: 2.日常、节日花卉及其他 | D8: 数量 | E8: 单价 | F8: 小计
B9: 绿化补种费 | O9: =F9*4 -> 0
B10: 节日草花购买 | F10: 10000 | G10: “五一节”“十一节”“春节”等各种节日
B11: 小计 | O11: =F10 -> 10000
A13: 总计 | O13: =O7+O11 -> 134100

Sheet 5.秩序维护
A1: 某某小区-I期 物业管理区域秩序维护费用预算 （2018年度）
A2: 科目、细目
A3: 1.保安合同 | D3: 人数 | E3: 单价 | F3: 月份 | G3: 小计
B4: 保安服务合同款 | D4: 20 | E4: 2800 | F4: 12 | O4: =F4*E4*D4 -> 672000
B5: 其他费用
B6: 小计 | O6: =SUM(O4:O5) -> 672000
A7: 2.车场管理费
B8: 购置、替换车场用品款 | E8: 数量 | F8: 单价
C9: 保安对讲机更换 | E9: 20 | F9: 600 | O9: =E9*F9 -> 12000
C10: 对讲机维修及电池款 | F10: 1000 | O10: =F10 -> 1000
B11: 交通设施购置及软件维护费 | F11: 3000 | H11: 地锥、栏杆、反光镜、车道指示灯、减速带等、防爆设备 | O11: =F11 -> 3000
B12: 小计 | O12: =SUM(O9:O11) -> 16000
A14: 总计 | O14: =SUM(O12+O6) -> 688000
A16: 巡逻电动车由开发商前期配置

Sheet 6.办公费用
A1: 某某小区-I期 物业管理区域办公用品费用预算 （2018年度）
A2: 科目、细目
A3: 1.办公用品
B4: 岗位 | D4: 人数 | E4: 每月标准 | F4: 年度金额 | H4: 笔、笔记本、尺子、钉书器 | O4: 年度小计
B5: 项目经理 | D5: ='1.工资福利'!C4 -> 1 | E5: 10 | F5: =D5*E5*12 -> 120 | O5: =F5 -> 120
B6: 部门主管 | D6: ='1.工资福利'!C5+'1.工资福利'!C6+'1.工资福利'!C9+'1.工资福利'!C12 -> 4 | E6: 8 | F6: =D6*E6*12 -> 384 | O6: =F6 -> 384
B7: 客服、维修 | D7: ='1.工资福利'!C7+'1.工资福利'!C8+'1.工资福利'!C10+'1.工资福利'!C11+'1.工资福利'!C13+'1.工资福利'!C14 -> 14 | E7: 6 | F7: =D7*E7*12 -> 1008 | O7: =F7 -> 1008
B8: 保安 | D8: ='5.秩序维护'!D4 -> 20 | E8: 6 | F8: =D8*E8*12 -> 1440 | O8: =F8 -> 1440
B9: 小计 | D9: =SUM(D5:D8) -> 39 | O9: =SUM(O5:O8) -> 2952
A10: 2.办公耗材
B11: 项目 | D11: 每季度消耗 | E11: 平均单价 | G11: 备注 | O11: 年度小计
B12: 复印机墨粉 | D12: 1 | E12: 600 | G12: 按每季度换一次计算 | O12: =D12*E12*4 -> 2400
B13: 复印机硒鼓 | D13: =1/4 -> 0.25 | E13: 450 | G13: 按每年换一次计算 | O13: =D13*E13*4 -> 450
B14: 打印机墨盒 | D14: 3 | E14: 150 | G14: 按每月每台机器换一次计算 | O14: =D14*E14*4 -> 1800
B15: 复印纸 | D15: 6 | E15: 100 | G15: 按每月2包计算 | O15: =D15*E15*4 -> 2400
B16: 财务发票 | D16: 3 | E16: 15 | O16: =D16*E16*4 -> 180
B17: 各部门印刷品 | D17: 1 | E17: 600 | G17: 三联打印纸、账本、记录表格、维修单、财务耗材等 | O17: =D17*E17*4 -> 2400
B18: 小计 | O18: =SUM(O12:O17) -> 9630
A19: 3.办公水、电费、物业管理软件
B20: 项 目 | D20: 数量 | E20: 月费用 | O20: 年度小计
B21: 水费 | E21: 500 | O21: =E21*12 -> 6000
B22: 电费 | E22: 600 | O22: =E22*12 -> 7200
B23: 物业管理软件 | O23: 4000
B24: 小计 | O24: =SUM(O21:O23) -> 17200
A25: 4.报刊杂志费
B26: 项 目 | D26: 杂志、报纸份数 | E26: 月费用 | O26: 年度小计
B27: 各类报纸 | D27: 3 | E27: 300 | O27: =D27*E27*12 -> 10800
B28: 小计 | O28: =SUM(O27) -> 10800
A29: 5.交通费
B30: 部门 | D30: 人数 | E30: 月金额 | O30: 年度小计
B31: 总经理办 | D31: ='1.工资福利'!C4+'1.工资福利'!C5 -> 2 | E31: 0 | O31: =D31*E31*12 -> 0
B32: 客户服务部 | D32: ='1.工资福利'!C6+'1.工资福利'!C7+'1.工资福利'!C8 -> 7 | E32: 0 | O32: =D32*E32*12 -> 0
B33: 工程部 | D33: ='1.工资福利'!C12+'1.工资福利'!C13+'1.工资福利'!C14 -> 7 | E33: 0 | O33: =D33*E33*12 -> 0
B34: 小计 | O34: =SUM(O31:O33) -> 0
A35: 6.固话通讯费
B36: 部门 | D36: 电话数量 | E36: 每月标准 | O36: 年度小计
B37: 总经理办公室 | D37: 1 | E37: 150 | O37: =D37*E37*12 -> 1800
B38: 客户服务部 | D38: 1 | E38: 150 | O38: =D38*E38*12 -> 1800
B39: 报修投诉电话 | D39: 1 | E39: 200 | O39: =D39*E39*12 -> 2400
B40: 工 程 部 | D40: 1 | E40: 150 | O40: =D40*E40*12 -> 1800
...

Sheet 7.开办费摊销
A1: 某某小区-I期 物业管理区域开办费分摊预算 （2018年度）
A2: 科目、细目
A3: 1.开办费摊销
B4: 项目 | D4: 前期开办费总额 | E4: 月份 | F4: 每月金额 | G4: 年度小计 | H4: 备注
B5: 开办费摊销 | D5: 200000 | E5: 36 | F5: =D5/E5 -> 5555.5556 | G5: =F5*12 -> 66666.667
B6: 业主固定资产 | E6: 0 | F6: 0 | G6: 0
B7: 小计 | G7: =SUM(G5:G6) -> 66666.667 | P7: =SUM(G5:G6) -> 66666.667
A9: 总计 | P9: =SUM(P7) -> 66666.667

Sheet 8.保险
A1: 某某小区-I期 物业管理区域设施设备及公众责任保险费预算 （2018年度）
A2: 科目、细目
A3: 1.公众责任、财产、机器、车辆保险
B4: 项目
B5: 公众责任保险
B6: 财产一切险
B7: 机器损坏险
B8: 停车场 | O8: 60000
A10: 总计 | O10: =SUM(O4:O9) -> 60000

Sheet 9.其他费用
A1: 某某小区-I期 物业管理区域其他费用预算 （2018年度）
A2: 税金和其他费用.
A3: 1.节日园区布置费
E4: 数量 | F4: 单价 | G4: 小计 | H4: 备注
E5: 3 | F5: 1500 | G5: =E5*F5 -> 4500 | H5: 元旦、春节、圣诞节。 | O5: =G5 -> 4500
A6: 2.税金 | E6: 税率 | G6: 年度收入
E7: 0.06 | G7: =SUM(收入明细!M18) -> 4684606.4 | O7: =G7*E7 -> 281076.38
A9: 总计 | O9: =SUM(O5:O8) -> 285576.38

Sheet 10.规划各类建筑物面积
A1: 一、建筑物各项数据明细
A2: 序号 | B2: 楼号/类型 | C2: 层数 | D2: 建筑高度（M） | E2: 户数 | F2: 备注
A3: 1 | B3: 1#（商住） | C3: 26/-1 | D3: 78.9 | E3: 144 | F3: 出处：
A4: 2 | B4: 2#（商住） | C4: 26/-1 | D4: 78.9 | E4: 144 | F4: 出处：
A5: 3 | B5: 3#（商住） | C5: 26/-1 | D5: 78.9 | E5: 216 | F5: 出处：
A6: 4 | B6: 5#（商住） | C6: 26/-2 | D6: 77.35 | E6: 156 | F6: 出处：
A7: 5 | B7: 6#（住宅） | C7: 26/-2 | D7: 77.35 | E7: 156 | F7: 出处：
A8: 6 | B8: 7#（住宅） | C8: 26/-2 | D8: 79.6 | E8: 100 | F8: 出处：
A9: 7 | B9: 8#（住宅） | C9: 26/-2 | D9: 77.35 | E9: 234 | F9: 出处：
A10: 8 | B10: 9#（商住） | C10: 26/-1 | D10: 78.9 | E10: 299 | F10: 出处：
A11: 9 | B11: 10#（商住） | C11: 26/-1 | D11: 78.9 | E11: 146 | F11: 出处：
A12: 10 | B12: 幼儿园及物业用房 | C12: 3 | D12: 14.16 | F12: 出处：
A13: 11 | B13: 地下停车场 | F13: 出处：
A14: 12 | B14: 合计 | E14: =SUM(E3:E13) -> 1595
A16: 二、总规划各类型面积明细
A17: 序号 | B17: 项目 | C17: 数值/㎡ | F17: 备注（信息出处）
A18: 1 | B18: 总征地面积 | C18: 64297.128 | F18: 出处：
A19: 2 | B19: 规划用地 | C19: 60812.183 | F19: 出处：
A20: 3 | B20: 实占用地 | C20: 60812.183 | F20: 出处：
A21: 4 | B21: 规划路占地 | C21: 3484.945 | F21: 出处：
A22: 5 | B22: 总建筑面积 | C22: 256872.63
A24: 地上建筑物各类型面积 | B24: 住宅建筑面积 | C24: 187237.37 | F24: 出处：
B25: 商业面积 | C25: 17884.28 | F25: 出处：
B26: 幼儿园面积 | C26: 2399.26 | F26: 出处：
B27: 公厕面积 | C27: 131.5 | F27: 出处：
B28: 四室四站一所一厅面积 | C28: 1019.2 | F28: 出处：
B29: 物业管理用房面积 | C29: 276.93 | F29: 出处：
B30: 垃圾中转站面积 | C30: 101 | F30: 出处：
B31: 地上建筑面积合计 | C31: =SUM(C24:C30) -> 209049.54
A33: 地下建筑物各类型面积 | B33: 地下车库面积 | C33: 36368.83 | F33: 出处：
B34: 地下储藏室 | C34: 11454.26 | F34: 出处：
B35: 地下建筑面积合计 | C35: =SUM(C33:C34) -> 47823.09
A37: 三、项目规划其他数据汇总
A38: 序号 | B38: 名称 | C38: 数据 | F38: 备注（信息出处）
A39: 1 | B39: 容积率 | C39: 3.44 | F39: 出处：
A40: 2 | B40: 建筑密度 | C40: 0.24 | F40: 出处：
A41: 3 | B41: 住宅套数 | C41: 1595 | F41: 出处：
A42: 4 | B42: 绿地面积 | C42: 24231.09 | F42: 出处：
A43: 5 | B43: 绿地率 | C43: 0.399 | F43: 出处：
A44: 6 | B44: 地下机动车车位 | C44: 1023 | F44: 出处：
...
